BEGIN:VCALENDAR
VERSION:2.0
PRODID:SchoolNow
CALSCALE:GREGORIAN
BEGIN:VEVENT
UID:848af8d6-a1e7-11eb-8481-0aabb135733b
DTSTAMP:20210420T144849Z
SUMMARY:Boys tennis home vs. Grandville
LOCATION:2745 Riley
URL;VALUE=URI:https://www.hudsonvillepublicschools.org/rileystreet/athletic
 s/calendar/2582809/boys-tennis-home-vs-grandville
DTSTART:20210525T200000Z
DTEND:20210525T220000Z
END:VEVENT
END:VCALENDAR
