BEGIN:VCALENDAR
VERSION:2.0
PRODID:SchoolNow
CALSCALE:GREGORIAN
BEGIN:VEVENT
UID:69445dd8-a1e7-11eb-a696-0aabb135733b
DTSTAMP:20210420T144804Z
SUMMARY:Boys Tennis at Grand Haven
LOCATION:1400 S. Griffin
URL;VALUE=URI:https://www.hudsonvillepublicschools.org/rileystreet/athletic
 s/calendar/2582808/boys-tennis-at-grand-haven
DTSTART:20210520T200000Z
DTEND:20210520T220000Z
END:VEVENT
END:VCALENDAR
