BEGIN:VCALENDAR
VERSION:2.0
PRODID:SchoolNow
CALSCALE:GREGORIAN
BEGIN:VEVENT
UID:36deab46-a1e7-11eb-ae66-0aabb135733b
DTSTAMP:20210420T144639Z
SUMMARY:Boys tennis home vs. Jenison
LOCATION:2745 Riley
URL;VALUE=URI:https://www.hudsonvillepublicschools.org/rileystreet/athletic
 s/calendar/2582805/boys-tennis-home-vs-jenison
DTSTART:20210513T200000Z
DTEND:20210513T220000Z
END:VEVENT
END:VCALENDAR
