BEGIN:VCALENDAR
VERSION:2.0
PRODID:SchoolNow
CALSCALE:GREGORIAN
BEGIN:VEVENT
UID:1c6fafb2-a1e7-11eb-9649-0aabb135733b
DTSTAMP:20210420T144555Z
SUMMARY:Boys tennis at Zeeland Creekside
LOCATION:179 W. Roosevelt
URL;VALUE=URI:https://www.hudsonvillepublicschools.org/rileystreet/athletic
 s/calendar/2582804/boys-tennis-at-zeeland-creekside
DTSTART:20210511T200000Z
DTEND:20210511T220000Z
END:VEVENT
END:VCALENDAR
