BEGIN:VCALENDAR
VERSION:2.0
PRODID:SchoolNow
CALSCALE:GREGORIAN
BEGIN:VEVENT
UID:6a4085b4-a1e6-11eb-9551-0aabb135733b
DTSTAMP:20210428T133732Z
SUMMARY:Boys tennis home vs. WO Black
LOCATION:2745 Riley
URL;VALUE=URI:https://www.hudsonvillepublicschools.org/rileystreet/athletic
 s/calendar/2582803/boys-tennis-home-vs-wo-black
DTSTART:20210512T200000Z
DTEND:20210512T220000Z
END:VEVENT
END:VCALENDAR
