BEGIN:VCALENDAR
VERSION:2.0
PRODID:SchoolNow
CALSCALE:GREGORIAN
BEGIN:VEVENT
UID:5510b7fe-a1e6-11eb-b9ca-0aabb135733b
DTSTAMP:20210420T144020Z
SUMMARY:Boys Tennis at Hamilton
LOCATION:4845 136th
URL;VALUE=URI:https://www.hudsonvillepublicschools.org/rileystreet/athletic
 s/calendar/2582802/boys-tennis-at-hamilton
DTSTART:20210504T200000Z
DTEND:20210504T220000Z
END:VEVENT
END:VCALENDAR
