BEGIN:VCALENDAR
VERSION:2.0
PRODID:SchoolNow
CALSCALE:GREGORIAN
BEGIN:VEVENT
UID:389e5af4-a1e6-11eb-bac7-0aabb135733b
DTSTAMP:20210420T143932Z
SUMMARY:Boys tennis at Baldwin
LOCATION:33835 Baldwin
URL;VALUE=URI:https://www.hudsonvillepublicschools.org/rileystreet/athletic
 s/calendar/2582801/boys-tennis-at-baldwin
DTSTART:20210427T200000Z
DTEND:20210427T220000Z
END:VEVENT
END:VCALENDAR
