BEGIN:VCALENDAR
VERSION:2.0
PRODID:SchoolNow
CALSCALE:GREGORIAN
BEGIN:VEVENT
UID:211a4852-a1e6-11eb-87aa-0aabb135733b
DTSTAMP:20210420T143853Z
SUMMARY:Boys Tennis home vs. Holland Christian
LOCATION:2745 Riley
URL;VALUE=URI:https://www.hudsonvillepublicschools.org/rileystreet/athletic
 s/calendar/2582800/boys-tennis-home-vs-holland-christian
DTSTART:20210426T200000Z
DTEND:20210426T220000Z
END:VEVENT
END:VCALENDAR
