BEGIN:VCALENDAR
VERSION:2.0
PRODID:SchoolNow
CALSCALE:GREGORIAN
BEGIN:VEVENT
UID:0791351c-a1e6-11eb-b371-0aabb135733b
DTSTAMP:20210420T143810Z
SUMMARY:Boys tennis home vs. Zeeland Cityside
LOCATION:2745 Riley Street
URL;VALUE=URI:https://www.hudsonvillepublicschools.org/rileystreet/athletic
 s/calendar/2582799/boys-tennis-home-vs-zeeland-cityside
DTSTART:20210422T200000Z
DTEND:20210422T220000Z
END:VEVENT
END:VCALENDAR
