BEGIN:VCALENDAR
VERSION:2.0
PRODID:SchoolNow
CALSCALE:GREGORIAN
BEGIN:VEVENT
UID:def19bce-a1e5-11eb-86e3-0aabb135733b
DTSTAMP:20210420T143702Z
SUMMARY:Boys tennis at WO Harbor Lights
LOCATION:1024 136th
URL;VALUE=URI:https://www.hudsonvillepublicschools.org/rileystreet/athletic
 s/calendar/2582798/boys-tennis-at-wo-harbor-lights
DTSTART:20210420T200000Z
DTEND:20210420T220000Z
END:VEVENT
END:VCALENDAR
