BEGIN:VCALENDAR
VERSION:2.0
PRODID:SchoolNow
CALSCALE:GREGORIAN
BEGIN:VEVENT
UID:9e988f38-a1e5-11eb-902d-0aabb135733b
DTSTAMP:20210420T143514Z
SUMMARY:8th Grade Girls Soccer home vs. Muskegon
LOCATION:3835 Baldwin
URL;VALUE=URI:https://www.hudsonvillepublicschools.org/rileystreet/athletic
 s/calendar/2582797/8th-grade-girls-soccer-home-vs-muskegon
DTSTART:20210527T080000Z
DTEND:20210527T210000Z
END:VEVENT
END:VCALENDAR
