BEGIN:VCALENDAR
VERSION:2.0
PRODID:SchoolNow
CALSCALE:GREGORIAN
BEGIN:VEVENT
UID:86b4272e-a1e5-11eb-be4f-0aabb135733b
DTSTAMP:20210420T143434Z
SUMMARY:Girls Soccer at Hamilton
LOCATION:4911 136th
URL;VALUE=URI:https://www.hudsonvillepublicschools.org/rileystreet/athletic
 s/calendar/2582796/girls-soccer-at-hamilton
DTSTART:20210525T200000Z
DTEND:20210525T220000Z
END:VEVENT
END:VCALENDAR
