BEGIN:VCALENDAR
VERSION:2.0
PRODID:SchoolNow
CALSCALE:GREGORIAN
BEGIN:VEVENT
UID:65520d44-a1e5-11eb-87b2-0aabb135733b
DTSTAMP:20210420T143338Z
SUMMARY:Girls Soccer home vs. Zeeland Creekside
LOCATION:3835 Baldwin
URL;VALUE=URI:https://www.hudsonvillepublicschools.org/rileystreet/athletic
 s/calendar/2582795/girls-soccer-home-vs-zeeland-creekside
DTSTART:20210520T080000Z
DTEND:20210520T220000Z
END:VEVENT
END:VCALENDAR
