BEGIN:VCALENDAR
VERSION:2.0
PRODID:SchoolNow
CALSCALE:GREGORIAN
BEGIN:VEVENT
UID:4af555b4-a1e5-11eb-b65b-0aabb135733b
DTSTAMP:20210420T143254Z
SUMMARY:Girls Soccer at Grandville
LOCATION:3535 Wilson
URL;VALUE=URI:https://www.hudsonvillepublicschools.org/rileystreet/athletic
 s/calendar/2582794/girls-soccer-at-grandville
DTSTART:20210518T200000Z
DTEND:20210518T220000Z
END:VEVENT
END:VCALENDAR
