BEGIN:VCALENDAR
VERSION:2.0
PRODID:SchoolNow
CALSCALE:GREGORIAN
BEGIN:VEVENT
UID:36f07710-a1e5-11eb-879a-0aabb135733b
DTSTAMP:20210420T143220Z
SUMMARY:7th Grade Girls Soccer home vs. Muskegon
LOCATION:3835 Baldwin
URL;VALUE=URI:https://www.hudsonvillepublicschools.org/rileystreet/athletic
 s/calendar/2582791/7th-grade-girls-soccer-home-vs-muskegon
DTSTART:20210513T080000Z
DTEND:20210513T210000Z
END:VEVENT
END:VCALENDAR
