BEGIN:VCALENDAR
VERSION:2.0
PRODID:SchoolNow
CALSCALE:GREGORIAN
BEGIN:VEVENT
UID:120a80a8-a1e5-11eb-ad47-0aabb135733b
DTSTAMP:20210420T143118Z
SUMMARY:8th Grade Girls Soccer at Byron Center
LOCATION:8654 Homerich
URL;VALUE=URI:https://www.hudsonvillepublicschools.org/rileystreet/athletic
 s/calendar/2582790/8th-grade-girls-soccer-at-byron-center
DTSTART:20210420T200000Z
DTEND:20210420T220000Z
END:VEVENT
END:VCALENDAR
