BEGIN:VCALENDAR
VERSION:2.0
PRODID:SchoolNow
CALSCALE:GREGORIAN
BEGIN:VEVENT
UID:f825c242-a1e4-11eb-aaf5-0aabb135733b
DTSTAMP:20210420T143035Z
SUMMARY:7th Girls Soccer at Holland Christian
LOCATION:850 Ottawa
URL;VALUE=URI:https://www.hudsonvillepublicschools.org/rileystreet/athletic
 s/calendar/2582789/7th-girls-soccer-at-holland-christian
DTSTART:20210511T200000Z
DTEND:20210511T220000Z
END:VEVENT
END:VCALENDAR
