BEGIN:VCALENDAR
VERSION:2.0
PRODID:SchoolNow
CALSCALE:GREGORIAN
BEGIN:VEVENT
UID:cb4b7d34-a1e4-11eb-864e-0aabb135733b
DTSTAMP:20210420T142920Z
SUMMARY:Girls Soccer at Zeeland Cityside
LOCATION:320 E. Main Street
URL;VALUE=URI:https://www.hudsonvillepublicschools.org/rileystreet/athletic
 s/calendar/2582788/girls-soccer-at-zeeland-cityside
DTSTART:20210504T200000Z
DTEND:20210504T210000Z
END:VEVENT
END:VCALENDAR
