BEGIN:VCALENDAR
VERSION:2.0
PRODID:SchoolNow
CALSCALE:GREGORIAN
BEGIN:VEVENT
UID:a0af8836-a1e4-11eb-919a-0aabb135733b
DTSTAMP:20210420T142808Z
SUMMARY:Girls Soccer home vs. West Ottawa
LOCATION:3835 Baldwin Street
URL;VALUE=URI:https://www.hudsonvillepublicschools.org/rileystreet/athletic
 s/calendar/2582787/girls-soccer-home-vs-west-ottawa
DTSTART:20210503T200000Z
DTEND:20210503T220000Z
END:VEVENT
END:VCALENDAR
