BEGIN:VCALENDAR
VERSION:2.0
PRODID:SchoolNow
CALSCALE:GREGORIAN
BEGIN:VEVENT
UID:db46958a-a1e3-11eb-841b-0aa5254c966b
DTSTAMP:20210427T165708Z
SUMMARY:7th Grade Girls Soccer home vs. Jenison
LOCATION:3535 Baldwin
URL;VALUE=URI:https://www.hudsonvillepublicschools.org/rileystreet/athletic
 s/calendar/2582786/girls-soccer-home-vs-jenison
DTSTART:20210429T200000Z
DTEND:20210429T220000Z
END:VEVENT
END:VCALENDAR
