BEGIN:VCALENDAR
VERSION:2.0
PRODID:SchoolNow
CALSCALE:GREGORIAN
BEGIN:VEVENT
UID:be1ad6f6-a1e3-11eb-8e84-0aa5254c966b
DTSTAMP:20210427T165617Z
SUMMARY:Girls Soccer at Zeeland Christian
LOCATION:334 West Central
URL;VALUE=URI:https://www.hudsonvillepublicschools.org/rileystreet/athletic
 s/calendar/2582785/girls-soccer-at-zeeland-christian
DTSTART:20210517T200000Z
DTEND:20210517T220000Z
END:VEVENT
END:VCALENDAR
