BEGIN:VCALENDAR
VERSION:2.0
PRODID:SchoolNow
CALSCALE:GREGORIAN
BEGIN:VEVENT
UID:2c23c3b2-a1e2-11eb-99c6-0a0eb80742df
DTSTAMP:20210420T141034Z
SUMMARY:7th Grade Girls Soccer at Grand Haven
LOCATION:1400 S. Griffin
URL;VALUE=URI:https://www.hudsonvillepublicschools.org/rileystreet/athletic
 s/calendar/2582784/7th-grade-girls-soccer-at-grand-haven
DTSTART:20210422T203000Z
DTEND:20210422T223000Z
END:VEVENT
END:VCALENDAR
