BEGIN:VCALENDAR
VERSION:2.0
PRODID:SchoolNow
CALSCALE:GREGORIAN
BEGIN:VEVENT
UID:00437ada-a1e2-11eb-a534-0a0eb80742df
DTSTAMP:20210420T140920Z
SUMMARY:Girls Soccer Home vs. Holland
LOCATION:3835 Baldwin Street
URL;VALUE=URI:https://www.hudsonvillepublicschools.org/rileystreet/athletic
 s/calendar/2582783/girls-soccer-home-vs-holland
DTSTART:20210420T200000Z
DTEND:20210420T220000Z
END:VEVENT
END:VCALENDAR
