BEGIN:VCALENDAR
VERSION:2.0
PRODID:SchoolNow
CALSCALE:GREGORIAN
BEGIN:VEVENT
UID:a66b506e-a1e1-11eb-8486-0a0eb80742df
DTSTAMP:20210420T140649Z
SUMMARY:Girls Conference Track Meet at Jenison High School
LOCATION:2140 Bauer Road
URL;VALUE=URI:https://www.hudsonvillepublicschools.org/rileystreet/athletic
 s/calendar/2582782/girls-conference-track-meet-at-jenison-high-school
DTSTART:20210525T200000Z
DTEND:20210525T220000Z
END:VEVENT
END:VCALENDAR
