BEGIN:VCALENDAR
VERSION:2.0
PRODID:SchoolNow
CALSCALE:GREGORIAN
BEGIN:VEVENT
UID:22ab4b12-a1e1-11eb-bd99-0a0eb80742df
DTSTAMP:20210420T140308Z
SUMMARY:Track - Boys Conference Meet at Zeeland
LOCATION:9900 Riley Street
URL;VALUE=URI:https://www.hudsonvillepublicschools.org/rileystreet/athletic
 s/calendar/2582781/track-boys-conference-meet-at-zeeland
DTSTART:20210524T200000Z
DTEND:20210524T220000Z
END:VEVENT
END:VCALENDAR
