BEGIN:VCALENDAR
VERSION:2.0
PRODID:SchoolNow
CALSCALE:GREGORIAN
BEGIN:VEVENT
UID:de1002fe-a1e0-11eb-9677-0a0eb80742df
DTSTAMP:20210420T140134Z
SUMMARY:Track Team at Zeeland Relays
LOCATION:Zeeland HS - 9900 Riley Street
URL;VALUE=URI:https://www.hudsonvillepublicschools.org/rileystreet/athletic
 s/calendar/2582780/track-team-at-zeeland-relays
DTSTART:20210519T200000Z
DTEND:20210519T220000Z
END:VEVENT
END:VCALENDAR
