BEGIN:VCALENDAR
VERSION:2.0
PRODID:SchoolNow
CALSCALE:GREGORIAN
BEGIN:VEVENT
UID:a210d364-a1e0-11eb-ba1c-0a0eb80742df
DTSTAMP:20210420T135932Z
SUMMARY:Home Track Meet vs. Hamilton
LOCATION:3835 Baldwin Street - Varsity track
URL;VALUE=URI:https://www.hudsonvillepublicschools.org/rileystreet/athletic
 s/calendar/2582779/home-track-meet-vs-hamilton
DTSTART:20210517T083000Z
DTEND:20210517T223000Z
END:VEVENT
END:VCALENDAR
