BEGIN:VCALENDAR
VERSION:2.0
PRODID:SchoolNow
CALSCALE:GREGORIAN
BEGIN:VEVENT
UID:00308918-a1e0-11eb-a3b1-0a8cf5ce3b3d
DTSTAMP:20210420T140156Z
SUMMARY:Track Meet at Pinewood
LOCATION:East Kentwood High School Varsity Track
URL;VALUE=URI:https://www.hudsonvillepublicschools.org/rileystreet/athletic
 s/calendar/2582778/track-meet-at-pinewood
DTSTART:20210513T203000Z
DTEND:20210513T223000Z
END:VEVENT
END:VCALENDAR
