BEGIN:VCALENDAR
VERSION:2.0
PRODID:SchoolNow
CALSCALE:GREGORIAN
BEGIN:VEVENT
UID:d1f47bc2-a1df-11eb-a4b6-0a8cf5ce3b3d
DTSTAMP:20210420T135343Z
SUMMARY:Home Track Meet vs. Valleywood
LOCATION:3835 Baldwin Street - Varsity Track
URL;VALUE=URI:https://www.hudsonvillepublicschools.org/rileystreet/athletic
 s/calendar/2582777/home-track-meet-vs-valleywood
DTSTART:20210511T203000Z
DTEND:20210511T223000Z
END:VEVENT
END:VCALENDAR
