BEGIN:VCALENDAR
VERSION:2.0
PRODID:SchoolNow
CALSCALE:GREGORIAN
BEGIN:VEVENT
UID:a9174fe0-a1df-11eb-b532-0a8cf5ce3b3d
DTSTAMP:20210420T135235Z
SUMMARY:Track Meet at Grandville Middle School
LOCATION:3535 Wilson Ave.
URL;VALUE=URI:https://www.hudsonvillepublicschools.org/rileystreet/athletic
 s/calendar/2582776/track-meet-at-grandville-middle-school
DTSTART:20210505T200000Z
DTEND:20210505T220000Z
END:VEVENT
END:VCALENDAR
