BEGIN:VCALENDAR
VERSION:2.0
PRODID:SchoolNow
CALSCALE:GREGORIAN
BEGIN:VEVENT
UID:63d48fc4-a1df-11eb-bd25-0a8cf5ce3b3d
DTSTAMP:20210420T135038Z
SUMMARY:Home Track Meet vs. Jenison
LOCATION:3835 Baldwin Varsity Track
URL;VALUE=URI:https://www.hudsonvillepublicschools.org/rileystreet/athletic
 s/calendar/2582775/home-track-meet-vs-jenison
DTSTART:20210503T203000Z
DTEND:20210503T223000Z
END:VEVENT
END:VCALENDAR
