BEGIN:VCALENDAR
VERSION:2.0
PRODID:SchoolNow
CALSCALE:GREGORIAN
BEGIN:VEVENT
UID:41a1be90-a1df-11eb-b3d6-0a8cf5ce3b3d
DTSTAMP:20210420T134941Z
SUMMARY:Track Meet at Crestwood
LOCATION:East Kentwood Varsity Track at the high school
URL;VALUE=URI:https://www.hudsonvillepublicschools.org/rileystreet/athletic
 s/calendar/2582774/track-meet-at-crestwood
DTSTART:20210429T203000Z
DTEND:20210429T223000Z
END:VEVENT
END:VCALENDAR
