BEGIN:VCALENDAR
VERSION:2.0
PRODID:SchoolNow
CALSCALE:GREGORIAN
BEGIN:VEVENT
UID:1aa9369c-a1df-11eb-ac98-0a8cf5ce3b3d
DTSTAMP:20210420T134836Z
SUMMARY:Home Track Meet vs. Zeeland
LOCATION:3835 Baldwin Street - Varsity Track
URL;VALUE=URI:https://www.hudsonvillepublicschools.org/rileystreet/athletic
 s/calendar/2582773/home-track-meet-vs-zeeland
DTSTART:20210426T203000Z
DTEND:20210426T223000Z
END:VEVENT
END:VCALENDAR
