BEGIN:VCALENDAR
VERSION:2.0
PRODID:SchoolNow
CALSCALE:GREGORIAN
BEGIN:VEVENT
UID:bfbda9c4-1eb8-11eb-a708-122da8e91881
DTSTAMP:20201104T161400Z
SUMMARY:Eagle Select Basketball vs. Holland at Riley
URL;VALUE=URI:https://www.hudsonvillepublicschools.org/rileystreet/athletic
 s/calendar/2488877/eagle-select-basketball-vs-holland-at-riley
DTSTART:20201112T210000Z
DTEND:20201112T233000Z
END:VEVENT
END:VCALENDAR
