BEGIN:VCALENDAR
VERSION:2.0
PRODID:SchoolNow
CALSCALE:GREGORIAN
BEGIN:VEVENT
UID:5cc3d5da-1eb5-11eb-a5d6-0a5d3df51673
DTSTAMP:20201104T154945Z
SUMMARY:Eagle Select Basketball vs. WO at Riley
URL;VALUE=URI:https://www.hudsonvillepublicschools.org/rileystreet/athletic
 s/calendar/2488875/eagle-select-basketball-vs-wo-at-riley
DTSTART:20201110T210000Z
DTEND:20201110T233000Z
END:VEVENT
END:VCALENDAR
