BEGIN:VCALENDAR
VERSION:2.0
PRODID:SchoolNow
CALSCALE:GREGORIAN
BEGIN:VEVENT
UID:8b2bb67a-1e12-11eb-92a1-0aec5f586713
DTSTAMP:20201103T202415Z
SUMMARY:Boys Basketball home vs. Grandville
URL;VALUE=URI:https://www.hudsonvillepublicschools.org/rileystreet/athletic
 s/calendar/2488098/boys-basketball-home-vs-grandville
DTSTART:20201216T210000Z
DTEND:20201216T233000Z
END:VEVENT
END:VCALENDAR
