BEGIN:VCALENDAR
VERSION:2.0
PRODID:SchoolNow
CALSCALE:GREGORIAN
BEGIN:VEVENT
UID:ffbb094a-1e0e-11eb-9288-0aec5f586713
DTSTAMP:20201103T195853Z
SUMMARY:Boys Basketball at Jenison
URL;VALUE=URI:https://www.hudsonvillepublicschools.org/rileystreet/athletic
 s/calendar/2488096/boys-basketball-at-jenison
DTSTART:20201214T210000Z
DTEND:20201214T233000Z
END:VEVENT
END:VCALENDAR
