BEGIN:VCALENDAR
VERSION:2.0
PRODID:SchoolNow
CALSCALE:GREGORIAN
BEGIN:VEVENT
UID:cdacd00e-1e0a-11eb-a451-1268a6b52a9f
DTSTAMP:20201103T192851Z
SUMMARY:Boys Basketball home vs. Pinewood
URL;VALUE=URI:https://www.hudsonvillepublicschools.org/rileystreet/athletic
 s/calendar/2487953/boys-basketball-home-vs-pinewood
DTSTART:20201209T210000Z
DTEND:20201209T233000Z
END:VEVENT
END:VCALENDAR
