BEGIN:VCALENDAR
VERSION:2.0
PRODID:SchoolNow
CALSCALE:GREGORIAN
BEGIN:VEVENT
UID:8c31ea74-1e0a-11eb-a501-0a12bfee3ffd
DTSTAMP:20201103T192701Z
SUMMARY:Boys Basketball at Grand Haven
URL;VALUE=URI:https://www.hudsonvillepublicschools.org/rileystreet/athletic
 s/calendar/2487952/boys-basketball-at-grand-haven
DTSTART:20201207T210000Z
DTEND:20201207T233000Z
END:VEVENT
END:VCALENDAR
