BEGIN:VCALENDAR
VERSION:2.0
PRODID:SchoolNow
CALSCALE:GREGORIAN
BEGIN:VEVENT
UID:7cb1a2b4-1e06-11eb-91fe-1204c5e1d457
DTSTAMP:20201103T185757Z
SUMMARY:Boys Basketball home vs. Valleywood
URL;VALUE=URI:https://www.hudsonvillepublicschools.org/rileystreet/athletic
 s/calendar/2487951/boys-basketball-home-vs-valleywood
DTSTART:20201202T210000Z
DTEND:20201202T233000Z
END:VEVENT
END:VCALENDAR
