BEGIN:VCALENDAR
VERSION:2.0
PRODID:SchoolNow
CALSCALE:GREGORIAN
BEGIN:VEVENT
UID:10739706-1e06-11eb-bd6a-1204c5e1d457
DTSTAMP:20201103T185455Z
SUMMARY:Boys Basketball home vs. Crestwood
URL;VALUE=URI:https://www.hudsonvillepublicschools.org/rileystreet/athletic
 s/calendar/2487950/boys-basketball-home-vs-crestwood
DTSTART:20201201T210000Z
DTEND:20201201T233000Z
END:VEVENT
END:VCALENDAR
