BEGIN:VCALENDAR
VERSION:2.0
PRODID:SchoolNow
CALSCALE:GREGORIAN
BEGIN:VEVENT
UID:c7e5c25e-1e03-11eb-bbc5-1268a6b52a9f
DTSTAMP:20201103T183835Z
SUMMARY:Boys Basketball home vs. Baldwin
URL;VALUE=URI:https://www.hudsonvillepublicschools.org/rileystreet/athletic
 s/calendar/2487949/boys-basketball-home-vs-baldwin
DTSTART:20201123T210000Z
DTEND:20201123T233000Z
END:VEVENT
END:VCALENDAR
