BEGIN:VCALENDAR
VERSION:2.0
PRODID:SchoolNow
CALSCALE:GREGORIAN
BEGIN:VEVENT
UID:9de8f958-1e03-11eb-94f9-0a12bfee3ffd
DTSTAMP:20201103T183724Z
SUMMARY:Boys Basketball at Grandville
URL;VALUE=URI:https://www.hudsonvillepublicschools.org/rileystreet/athletic
 s/calendar/2487948/boys-basketball-at-grandville
DTSTART:20201118T210000Z
DTEND:20201118T233000Z
END:VEVENT
END:VCALENDAR
