BEGIN:VCALENDAR
VERSION:2.0
PRODID:SchoolNow
CALSCALE:GREGORIAN
BEGIN:VEVENT
UID:bd58dac6-1e01-11eb-b22d-0a874b9e7e5b
DTSTAMP:20201103T184848Z
SUMMARY:Boys Basketball home vs. Jenison
URL;VALUE=URI:https://www.hudsonvillepublicschools.org/rileystreet/athletic
 s/calendar/2487947/boys-basketball-home-vs-jenison
DTSTART:20201116T210000Z
DTEND:20201116T233000Z
END:VEVENT
END:VCALENDAR
