BEGIN:VCALENDAR
VERSION:2.0
PRODID:SchoolNow
CALSCALE:GREGORIAN
BEGIN:VEVENT
UID:3c4abcba-1e01-11eb-a1a9-0adac51ff1e3
DTSTAMP:20201103T182022Z
SUMMARY:Boys Basketball at Pinewood
URL;VALUE=URI:https://www.hudsonvillepublicschools.org/rileystreet/athletic
 s/calendar/2487946/boys-basketball-at-pinewood
DTSTART:20201112T210000Z
DTEND:20201112T233000Z
END:VEVENT
END:VCALENDAR
