BEGIN:VCALENDAR
VERSION:2.0
PRODID:SchoolNow
CALSCALE:GREGORIAN
BEGIN:VEVENT
UID:0f1ce164-1e01-11eb-ad89-129197f708e7
DTSTAMP:20201103T181906Z
SUMMARY:Boys Basketball at Mona Shores
URL;VALUE=URI:https://www.hudsonvillepublicschools.org/rileystreet/athletic
 s/calendar/2487945/boys-basketball-at-mona-shores
DTSTART:20201110T210000Z
DTEND:20201110T233000Z
END:VEVENT
END:VCALENDAR
