BEGIN:VCALENDAR
VERSION:2.0
PRODID:SchoolNow
CALSCALE:GREGORIAN
BEGIN:VEVENT
UID:cecb6cac-1e00-11eb-9604-129197f708e7
DTSTAMP:20201103T181718Z
SUMMARY:Girls Swim & Dive vs. Zeeland - location TBD
URL;VALUE=URI:https://www.hudsonvillepublicschools.org/rileystreet/athletic
 s/calendar/2487944/girls-swim-dive-vs-zeeland-location-tbd
DTSTART:20201215T210000Z
DTEND:20201215T223000Z
END:VEVENT
END:VCALENDAR
