BEGIN:VCALENDAR
VERSION:2.0
PRODID:SchoolNow
CALSCALE:GREGORIAN
BEGIN:VEVENT
UID:61bf484a-1e00-11eb-8fb2-0adac51ff1e3
DTSTAMP:20201103T181415Z
SUMMARY:Girls Swim & Dive home vs. Holland
URL;VALUE=URI:https://www.hudsonvillepublicschools.org/rileystreet/athletic
 s/calendar/2487870/girls-swim-dive-home-vs-holland
DTSTART:20201210T210000Z
DTEND:20201210T223000Z
END:VEVENT
END:VCALENDAR
