BEGIN:VCALENDAR
VERSION:2.0
PRODID:SchoolNow
CALSCALE:GREGORIAN
BEGIN:VEVENT
UID:14ba6912-1e00-11eb-876d-1204c5e1d457
DTSTAMP:20201103T181206Z
SUMMARY:Girls Swim & Dive at Holland Christian (Aquatic Center)
URL;VALUE=URI:https://www.hudsonvillepublicschools.org/rileystreet/athletic
 s/calendar/2487869/girls-swim-dive-at-holland-christian-aquatic-center
DTSTART:20201208T210000Z
DTEND:20201208T223000Z
END:VEVENT
END:VCALENDAR
