BEGIN:VCALENDAR
VERSION:2.0
PRODID:SchoolNow
CALSCALE:GREGORIAN
BEGIN:VEVENT
UID:dfdba3f0-1dff-11eb-8b14-0a12bfee3ffd
DTSTAMP:20201103T181037Z
SUMMARY:Girls Swim & Dive home vs. Grandville
URL;VALUE=URI:https://www.hudsonvillepublicschools.org/rileystreet/athletic
 s/calendar/2487868/girls-swim-dive-home-vs-grandville
DTSTART:20201203T210000Z
DTEND:20201203T223000Z
END:VEVENT
END:VCALENDAR
